BEGIN:VCALENDAR
VERSION:2.0
PRODID:-//Terra Vino - ECPv6.15.15//NONSGML v1.0//EN
CALSCALE:GREGORIAN
METHOD:PUBLISH
X-ORIGINAL-URL:https://www.terravino.se
X-WR-CALDESC:Händelser för Terra Vino
REFRESH-INTERVAL;VALUE=DURATION:PT1H
X-Robots-Tag:noindex
X-PUBLISHED-TTL:PT1H
BEGIN:VTIMEZONE
TZID:UTC
BEGIN:STANDARD
TZOFFSETFROM:+0000
TZOFFSETTO:+0000
TZNAME:UTC
DTSTART:20250101T000000
END:STANDARD
END:VTIMEZONE
BEGIN:VEVENT
DTSTART;TZID=UTC:20260306T163000
DTEND;TZID=UTC:20260306T180000
DTSTAMP:20260421T174326
CREATED:20260205T120412Z
LAST-MODIFIED:20260205T120412Z
UID:289-1772814600-1772820000@www.terravino.se
SUMMARY:Vinprovning After Work
DESCRIPTION:Välkommen på en avslappnad after work-vinprovning med fokus på norra Italien. En perfekt paus efter jobbet där vi provar ett urval av enklare\, lättdruckna viner som är gjorda för att njutas av utan krångel. \nVi pratar om ursprung\, druvor och känsla snarare än rätt och fel. Det här är en vinprovning för dig som är nyfiken\, vill lära dig lite mer och framför allt vill ha en trevlig stund i gott sällskap. Inga förkunskaper krävs\, bara lusten att smaka\, umgås och varva ner. \nPerfekt som after work med vänner eller kollegor. \nVinprovningen hålls av vår sommelier Fredrik Hagström.
URL:https://www.terravino.se/evenemang/vinprovning-after-work/
LOCATION:Uppsala\, city\, 75320\, Sweden
ORGANIZER;CN="Fredrik Hagstr%C3%B6m":MAILTO:fredrik@terravino.se
END:VEVENT
BEGIN:VEVENT
DTSTART;TZID=UTC:20260415T170000
DTEND;TZID=UTC:20260415T183000
DTSTAMP:20260421T174326
CREATED:20260218T141029Z
LAST-MODIFIED:20260218T141029Z
UID:347-1776272400-1776277800@www.terravino.se
SUMMARY:Provning: Bubblor från Franciacorta
DESCRIPTION:Onsdagen den 15 april bjuder vi in till en inspirerande vinprovning med fokus på Franciacorta – tillsammans med vår sommelier Fredrik. \nUnder kvällen får du upptäcka fyra noggrant utvalda viner från området kring Iseosjön i norra Italien\, kombinerade med passande tilltugg som lyfter varje smakupplevelse. \nVill du lära dig mer om Franciacorta och vad som gör området så unikt? Eller samla kollegorna för en trevlig och smakrik after work mitt i veckan? \nDet här är ett perfekt tillfälle att fördjupa dina kunskaper\, ställa frågor och njuta av riktigt bra vin i gott sällskap. \n\n\n17:00-18:30.\n\n480kr/pers\n\n25+
URL:https://www.terravino.se/evenemang/provning-bubblor-fran-franciacorta/
LOCATION:Uppsala\, city\, 75320\, Sweden
END:VEVENT
BEGIN:VEVENT
DTSTART;TZID=UTC:20260423T170000
DTEND;TZID=UTC:20260423T183000
DTSTAMP:20260421T174326
CREATED:20260218T141601Z
LAST-MODIFIED:20260218T141601Z
UID:351-1776963600-1776969000@www.terravino.se
SUMMARY:Bubbeltorsdag
DESCRIPTION:Torsdagen den 23 april bjuder vi in till Bubbeltorsdag tillsammans med vår sommelier Fredrik. \nÄr Prosecco det bubbel som dricks mest i Italien? Under kvällen guidar Fredrik oss genom Italiens mousserande värld och reder ut skillnaderna mellan regioner\, druvor och metoder. \nVi provar fyra olika bubbel från olika delar av Italien\, alla med sin egen stil och personlighet\, serverade med noggrant utvalda tilltugg som lyfter varje glas. \nTa med kollegorna på en inspirerande after work eller kom för att fördjupa dina kunskaper om italienska bubblor. En kväll för dig som vill lära dig mer\, ställa frågor och upptäcka nya favoriter i gott sällskap. \n\n17:00-18:30\n\n510kr/pers
URL:https://www.terravino.se/evenemang/bubbeltorsdag/
LOCATION:Uppsala\, city\, 75320\, Sweden
END:VEVENT
END:VCALENDAR